BEGIN:VCALENDAR
VERSION:2.0
PRODID:-//Sage School - ECPv6.15.20//NONSGML v1.0//EN
CALSCALE:GREGORIAN
METHOD:PUBLISH
X-ORIGINAL-URL:https://www.sageschool.net
X-WR-CALDESC:Events for Sage School
REFRESH-INTERVAL;VALUE=DURATION:PT1H
X-Robots-Tag:noindex
X-PUBLISHED-TTL:PT1H
BEGIN:VTIMEZONE
TZID:America/New_York
BEGIN:DAYLIGHT
TZOFFSETFROM:-0500
TZOFFSETTO:-0400
TZNAME:EDT
DTSTART:20240310T070000
END:DAYLIGHT
BEGIN:STANDARD
TZOFFSETFROM:-0400
TZOFFSETTO:-0500
TZNAME:EST
DTSTART:20241103T060000
END:STANDARD
BEGIN:DAYLIGHT
TZOFFSETFROM:-0500
TZOFFSETTO:-0400
TZNAME:EDT
DTSTART:20250309T070000
END:DAYLIGHT
BEGIN:STANDARD
TZOFFSETFROM:-0400
TZOFFSETTO:-0500
TZNAME:EST
DTSTART:20251102T060000
END:STANDARD
BEGIN:DAYLIGHT
TZOFFSETFROM:-0500
TZOFFSETTO:-0400
TZNAME:EDT
DTSTART:20260308T070000
END:DAYLIGHT
BEGIN:STANDARD
TZOFFSETFROM:-0400
TZOFFSETTO:-0500
TZNAME:EST
DTSTART:20261101T060000
END:STANDARD
BEGIN:DAYLIGHT
TZOFFSETFROM:-0500
TZOFFSETTO:-0400
TZNAME:EDT
DTSTART:20270314T070000
END:DAYLIGHT
BEGIN:STANDARD
TZOFFSETFROM:-0400
TZOFFSETTO:-0500
TZNAME:EST
DTSTART:20271107T060000
END:STANDARD
BEGIN:DAYLIGHT
TZOFFSETFROM:-0500
TZOFFSETTO:-0400
TZNAME:EDT
DTSTART:20280312T070000
END:DAYLIGHT
BEGIN:STANDARD
TZOFFSETFROM:-0400
TZOFFSETTO:-0500
TZNAME:EST
DTSTART:20281105T060000
END:STANDARD
END:VTIMEZONE
BEGIN:VEVENT
DTSTART;VALUE=DATE:20250901
DTEND;VALUE=DATE:20250902
DTSTAMP:20260424T092749
CREATED:20250623T163634Z
LAST-MODIFIED:20250623T163634Z
UID:1970-1756684800-1756771199@www.sageschool.net
SUMMARY:Labor Day - No School
DESCRIPTION:
URL:https://www.sageschool.net/event/labor-day-no-school-3/
END:VEVENT
BEGIN:VEVENT
DTSTART;VALUE=DATE:20250919
DTEND;VALUE=DATE:20250920
DTSTAMP:20260424T092749
CREATED:20250623T163712Z
LAST-MODIFIED:20250623T163712Z
UID:1971-1758240000-1758326399@www.sageschool.net
SUMMARY:Staff Workday (Student holiday)
DESCRIPTION:
URL:https://www.sageschool.net/event/staff-workday-student-holiday/
END:VEVENT
BEGIN:VEVENT
DTSTART;VALUE=DATE:20250930
DTEND;VALUE=DATE:20251001
DTSTAMP:20260424T092749
CREATED:20250623T163803Z
LAST-MODIFIED:20250623T163803Z
UID:1972-1759190400-1759276799@www.sageschool.net
SUMMARY:Conferences (Student holiday)
DESCRIPTION:
URL:https://www.sageschool.net/event/conferences-student-holiday/
END:VEVENT
BEGIN:VEVENT
DTSTART;VALUE=DATE:20251009
DTEND;VALUE=DATE:20251014
DTSTAMP:20260424T092749
CREATED:20250623T163946Z
LAST-MODIFIED:20250623T163946Z
UID:1973-1759968000-1760399999@www.sageschool.net
SUMMARY:Fall Break
DESCRIPTION:
URL:https://www.sageschool.net/event/fall-break-5/
END:VEVENT
BEGIN:VEVENT
DTSTART;TZID=America/New_York:20251016T120000
DTEND;TZID=America/New_York:20251017T130000
DTSTAMP:20260424T092749
CREATED:20240425T183157Z
LAST-MODIFIED:20250807T235432Z
UID:1780-1760616000-1760706000@www.sageschool.net
SUMMARY:Sage School's 2025 Annual Quail Hunt and Clay Shoot
DESCRIPTION:
URL:https://www.sageschool.net/event/sage-schools-2024-annual-quail-hunt-and-clay-shoot/
END:VEVENT
BEGIN:VEVENT
DTSTART;VALUE=DATE:20251124
DTEND;VALUE=DATE:20251129
DTSTAMP:20260424T092749
CREATED:20250623T164025Z
LAST-MODIFIED:20250623T164025Z
UID:1974-1763942400-1764374399@www.sageschool.net
SUMMARY:Thanksgiving Break
DESCRIPTION:
URL:https://www.sageschool.net/event/thanksgiving-break-4/
END:VEVENT
BEGIN:VEVENT
DTSTART;VALUE=DATE:20251222
DTEND;VALUE=DATE:20260103
DTSTAMP:20260424T092749
CREATED:20250623T170239Z
LAST-MODIFIED:20250623T170239Z
UID:1975-1766361600-1767398399@www.sageschool.net
SUMMARY:Christmas Break
DESCRIPTION:
URL:https://www.sageschool.net/event/christmas-break-4/
END:VEVENT
BEGIN:VEVENT
DTSTART;VALUE=DATE:20260105
DTEND;VALUE=DATE:20260106
DTSTAMP:20260424T092749
CREATED:20250623T170321Z
LAST-MODIFIED:20250623T170321Z
UID:1976-1767571200-1767657599@www.sageschool.net
SUMMARY:Staff Workday (Student holiday)
DESCRIPTION:
URL:https://www.sageschool.net/event/staff-workday-student-holiday-2/
END:VEVENT
BEGIN:VEVENT
DTSTART;VALUE=DATE:20260106
DTEND;VALUE=DATE:20260107
DTSTAMP:20260424T092749
CREATED:20250623T170359Z
LAST-MODIFIED:20250623T170359Z
UID:1977-1767657600-1767743999@www.sageschool.net
SUMMARY:Students return
DESCRIPTION:
URL:https://www.sageschool.net/event/students-return-4/
END:VEVENT
BEGIN:VEVENT
DTSTART;VALUE=DATE:20260119
DTEND;VALUE=DATE:20260120
DTSTAMP:20260424T092749
CREATED:20210623T161613Z
LAST-MODIFIED:20250917T162430Z
UID:1052-1768780800-1768867199@www.sageschool.net
SUMMARY:MLK Day – No School
DESCRIPTION:
URL:https://www.sageschool.net/event/mlk-day-no-school-2/
END:VEVENT
BEGIN:VEVENT
DTSTART;VALUE=DATE:20260212
DTEND;VALUE=DATE:20260217
DTSTAMP:20260424T092749
CREATED:20240605T133846Z
LAST-MODIFIED:20250917T162601Z
UID:1811-1770854400-1771286399@www.sageschool.net
SUMMARY:Winter Break
DESCRIPTION:
URL:https://www.sageschool.net/event/winter-break-2/
END:VEVENT
BEGIN:VEVENT
DTSTART;TZID=America/New_York:20260220T080000
DTEND;TZID=America/New_York:20260220T170000
DTSTAMP:20260424T092749
CREATED:20250917T162735Z
LAST-MODIFIED:20250917T162735Z
UID:2065-1771574400-1771606800@www.sageschool.net
SUMMARY:Shindig @ Gwinnett Stripers
DESCRIPTION:
URL:https://www.sageschool.net/event/shindig-gwinnett-stripers/
END:VEVENT
BEGIN:VEVENT
DTSTART;VALUE=DATE:20260403
DTEND;VALUE=DATE:20260404
DTSTAMP:20260424T092749
CREATED:20240605T134058Z
LAST-MODIFIED:20250917T163001Z
UID:1814-1775174400-1775260799@www.sageschool.net
SUMMARY:Good Friday (No School)
DESCRIPTION:
URL:https://www.sageschool.net/event/good-friday-no-school-2/
END:VEVENT
BEGIN:VEVENT
DTSTART;VALUE=DATE:20260406
DTEND;VALUE=DATE:20260411
DTSTAMP:20260424T092749
CREATED:20240605T134017Z
LAST-MODIFIED:20250917T163049Z
UID:1813-1775433600-1775865599@www.sageschool.net
SUMMARY:Spring Break
DESCRIPTION:
URL:https://www.sageschool.net/event/spring-break-3/
END:VEVENT
BEGIN:VEVENT
DTSTART;VALUE=DATE:20260515
DTEND;VALUE=DATE:20260521
DTSTAMP:20260424T092749
CREATED:20240605T134211Z
LAST-MODIFIED:20250917T163210Z
UID:1815-1778803200-1779321599@www.sageschool.net
SUMMARY:Conferences (Early Release 12:30)
DESCRIPTION:
URL:https://www.sageschool.net/event/conferences-early-release-1230-4/
END:VEVENT
BEGIN:VEVENT
DTSTART;VALUE=DATE:20260520
DTEND;VALUE=DATE:20260521
DTSTAMP:20260424T092749
CREATED:20240605T134243Z
LAST-MODIFIED:20250917T163313Z
UID:1816-1779235200-1779321599@www.sageschool.net
SUMMARY:Last Day of School
DESCRIPTION:
URL:https://www.sageschool.net/event/last-day-of-school-4/
END:VEVENT
BEGIN:VEVENT
DTSTART;VALUE=DATE:20260521
DTEND;VALUE=DATE:20260522
DTSTAMP:20260424T092749
CREATED:20240605T134349Z
LAST-MODIFIED:20250917T163345Z
UID:1817-1779321600-1779407999@www.sageschool.net
SUMMARY:Teacher Post-Planning
DESCRIPTION:
URL:https://www.sageschool.net/event/teacher-post-planning/
END:VEVENT
BEGIN:VEVENT
DTSTART;VALUE=DATE:20260803
DTEND;VALUE=DATE:20260811
DTSTAMP:20260424T092749
CREATED:20260309T130558Z
LAST-MODIFIED:20260309T130558Z
UID:2092-1785715200-1786406399@www.sageschool.net
SUMMARY:Teacher Pre-planning
DESCRIPTION:
URL:https://www.sageschool.net/event/teacher-pre-planning/
END:VEVENT
BEGIN:VEVENT
DTSTART;VALUE=DATE:20260811
DTEND;VALUE=DATE:20260812
DTSTAMP:20260424T092749
CREATED:20260309T130659Z
LAST-MODIFIED:20260309T130659Z
UID:2093-1786406400-1786492799@www.sageschool.net
SUMMARY:Open House
DESCRIPTION:
URL:https://www.sageschool.net/event/open-house-5/
END:VEVENT
BEGIN:VEVENT
DTSTART;VALUE=DATE:20260812
DTEND;VALUE=DATE:20260813
DTSTAMP:20260424T092749
CREATED:20260309T130739Z
LAST-MODIFIED:20260309T130739Z
UID:2094-1786492800-1786579199@www.sageschool.net
SUMMARY:First Day of School
DESCRIPTION:
URL:https://www.sageschool.net/event/first-day-of-school-3/
END:VEVENT
BEGIN:VEVENT
DTSTART;VALUE=DATE:20260907
DTEND;VALUE=DATE:20260908
DTSTAMP:20260424T092749
CREATED:20260309T130819Z
LAST-MODIFIED:20260309T130819Z
UID:2095-1788739200-1788825599@www.sageschool.net
SUMMARY:Labor Day - School Closed
DESCRIPTION:
URL:https://www.sageschool.net/event/labor-day-school-closed/
END:VEVENT
BEGIN:VEVENT
DTSTART;VALUE=DATE:20260918
DTEND;VALUE=DATE:20260919
DTSTAMP:20260424T092749
CREATED:20260309T130906Z
LAST-MODIFIED:20260309T130906Z
UID:2096-1789689600-1789775999@www.sageschool.net
SUMMARY:Staff Workday - (Student Holiday)
DESCRIPTION:
URL:https://www.sageschool.net/event/staff-workday-student-holiday-3/
END:VEVENT
BEGIN:VEVENT
DTSTART;VALUE=DATE:20260930
DTEND;VALUE=DATE:20261001
DTSTAMP:20260424T092749
CREATED:20260309T130933Z
LAST-MODIFIED:20260309T131001Z
UID:2097-1790726400-1790812799@www.sageschool.net
SUMMARY:Conferences - (Student Holiday)
DESCRIPTION:
URL:https://www.sageschool.net/event/conferences-student-holiday-2/
END:VEVENT
BEGIN:VEVENT
DTSTART;VALUE=DATE:20261012
DTEND;VALUE=DATE:20261017
DTSTAMP:20260424T092749
CREATED:20260309T131036Z
LAST-MODIFIED:20260309T131036Z
UID:2098-1791763200-1792195199@www.sageschool.net
SUMMARY:Fall Break
DESCRIPTION:
URL:https://www.sageschool.net/event/fall-break-6/
END:VEVENT
BEGIN:VEVENT
DTSTART;VALUE=DATE:20261105
DTEND;VALUE=DATE:20261107
DTSTAMP:20260424T092749
CREATED:20260422T134717Z
LAST-MODIFIED:20260422T134717Z
UID:2103-1793836800-1794009599@www.sageschool.net
SUMMARY:Annual Clay Shoot
DESCRIPTION:See website’s Events page for details.
URL:https://www.sageschool.net/event/annual-clay-shoot-2/
END:VEVENT
BEGIN:VEVENT
DTSTART;VALUE=DATE:20261123
DTEND;VALUE=DATE:20261128
DTSTAMP:20260424T092749
CREATED:20260309T131145Z
LAST-MODIFIED:20260309T131145Z
UID:2099-1795392000-1795823999@www.sageschool.net
SUMMARY:Thanksgiving Break
DESCRIPTION:
URL:https://www.sageschool.net/event/thanksgiving-break-5/
END:VEVENT
BEGIN:VEVENT
DTSTART;VALUE=DATE:20261221
DTEND;VALUE=DATE:20270102
DTSTAMP:20260424T092749
CREATED:20260309T131241Z
LAST-MODIFIED:20260309T131241Z
UID:2100-1797811200-1798847999@www.sageschool.net
SUMMARY:Christmas Break
DESCRIPTION:
URL:https://www.sageschool.net/event/christmas-break-5/
END:VEVENT
BEGIN:VEVENT
DTSTART;TZID=America/New_York:20270319T093000
DTEND;TZID=America/New_York:20270319T150000
DTSTAMP:20260424T092749
CREATED:20240531T185629Z
LAST-MODIFIED:20260306T161932Z
UID:1785-1805448600-1805468400@www.sageschool.net
SUMMARY:Mastering Dyslexia Golf Tournament
DESCRIPTION:
URL:https://www.sageschool.net/event/mastering-dyslexia-golf-tournament/
END:VEVENT
END:VCALENDAR